BEGIN:VCALENDAR
VERSION:2.0
PRODID:-//eventon.com NONSGML v1.0//EN
CALSCALE:GREGORIAN
METHOD:PUBLISH
BEGIN:VEVENT
UID:69eb2adedc174
DTSTAMP:20260424T013334
DTSTART:20221019T170000Z
DTEND:20221019T071500Z
TZID:Pacific/Midway
LOCATION:
SUMMARY:WEBCLASS: Compassionate Boundaries
DESCRIPTION:Compassionate Boundaries Having compassion for self and others includes having healthy boundaries. We will be exploring why this is important and what gets in the way so that we can live with our heart more fully open to our self and to others.\nhttps://www.hoffmaninstitute.org/events/webclass-compassionate-boundaries/
URL:https://www.hoffmaninstitute.org/events/webclass-compassionate-boundaries/
END:VEVENT
END:VCALENDAR