BEGIN:VCALENDAR
VERSION:2.0
PRODID:-//eventon.com NONSGML v1.0//EN
CALSCALE:GREGORIAN
METHOD:PUBLISH
BEGIN:VEVENT
UID:69e8a3e310d01
DTSTAMP:20260422T033307
DTSTART:20220825T170000Z
DTEND:20220825T071500Z
TZID:Pacific/Midway
LOCATION:
SUMMARY:WEBCLASS: Triggers and Transference
DESCRIPTION:Webclass: Triggers and Transference Understanding and working with transference is a powerful tool that can be used for better communication and healthier relationships. In this webclass\,  we will begin by having you write out a current transference. Then\,  we will explore the experience of transference in the body and how[..]\nhttps://www.hoffmaninstitute.org/events/webclass-triggers-and-transference-2/
URL:https://www.hoffmaninstitute.org/events/webclass-triggers-and-transference-2/
END:VEVENT
END:VCALENDAR