BEGIN:VCALENDAR
VERSION:2.0
PRODID:-//eventon.com NONSGML v1.0//EN
CALSCALE:GREGORIAN
METHOD:PUBLISH
BEGIN:VEVENT
UID:69e7378ccd4e3
DTSTAMP:20260421T013836
DTSTART:20220511T170000Z
DTEND:20220511T181500Z
TZID:UTC
LOCATION:
SUMMARY:WEBCLASS: Mastering Practices
DESCRIPTION:Mastering Practices This interactive webclass will connect you back to the practices of the Process. Using the Cycle of Transformation as the foundation\,  you’ll be led through a series of experiences designed to re-engage you to your Process and deepen your understanding of the practices. Come prepared with your questions[..]\nhttps://www.hoffmaninstitute.org/events/webclass-mastering-practices-5/
URL:https://www.hoffmaninstitute.org/events/webclass-mastering-practices-5/
END:VEVENT
END:VCALENDAR