BEGIN:VCALENDAR
VERSION:2.0
PRODID:-//eventon.com NONSGML v1.0//EN
CALSCALE:GREGORIAN
METHOD:PUBLISH
BEGIN:VEVENT
UID:69ed7a4921728
DTSTAMP:20260425T193657
DTSTART:20230117T170000Z
DTEND:20230117T101500Z
TZID:America/Los_Angeles
LOCATION:
SUMMARY:WEBCLASS: Disempower Your Dark Side
DESCRIPTION:Disempower Your Dark Side Tools and practices to build spirit and keep the dark side at bay in your life!\nhttps://www.hoffmaninstitute.org/events/webclass-disempower-your-dark-side-011723/
URL:https://www.hoffmaninstitute.org/events/webclass-disempower-your-dark-side-011723/
END:VEVENT
END:VCALENDAR