BEGIN:VCALENDAR
VERSION:2.0
PRODID:-//eventon.com NONSGML v1.0//EN
CALSCALE:GREGORIAN
METHOD:PUBLISH
BEGIN:VEVENT
UID:69e75f9bc1705
DTSTAMP:20260421T042931
DTSTART:20230208T170000Z
DTEND:20230208T101500Z
TZID:America/Los_Angeles
LOCATION:
SUMMARY:WEBCLASS: Creating More Intimacy in Your Life
DESCRIPTION:Webclass: Creating More Intimacy in Your Life Many of us say we want more intimacy in our lives - with family\,  friends\,  or lovers. We want to feel known and seen and loved. But can you say\,  “I see you and I love you\, ” to yourself?  Without self-intimacy\,  we are[..]\nhttps://www.hoffmaninstitute.org/events/webclass-creating-more-intimacy-in-your-life-020823/
URL:https://www.hoffmaninstitute.org/events/webclass-creating-more-intimacy-in-your-life-020823/
END:VEVENT
END:VCALENDAR