BEGIN:VCALENDAR
VERSION:2.0
PRODID:-//eventon.com NONSGML v1.0//EN
CALSCALE:GREGORIAN
METHOD:PUBLISH
BEGIN:VEVENT
UID:69e6d9dd32384
DTSTAMP:20260420T185853
DTSTART:20230228T170000Z
DTEND:20230228T101500Z
TZID:America/Los_Angeles
LOCATION:
SUMMARY:WEBCLASS: Triggers and Transference
DESCRIPTION:Webclass: Triggers and Transference Understanding and working with transference is a powerful tool that can be used for better communication and healthier relationships. In this webclass\,  we will begin by having you write out a current transference. Then\,  we will explore the experience of transference in the body and how[..]\nhttps://www.hoffmaninstitute.org/events/webclass-triggers-and-transference-022823/
URL:https://www.hoffmaninstitute.org/events/webclass-triggers-and-transference-022823/
END:VEVENT
END:VCALENDAR