BEGIN:VCALENDAR
VERSION:2.0
PRODID:-//eventon.com NONSGML v1.0//EN
CALSCALE:GREGORIAN
METHOD:PUBLISH
BEGIN:VEVENT
UID:69e9dce7a3d46
DTSTAMP:20260423T014839
DTSTART:20230301T170000Z
DTEND:20230301T101500Z
TZID:America/Los_Angeles
LOCATION:
SUMMARY:WEBCLASS: Mastering Elevators
DESCRIPTION:Mastering Elevators: Transforming Patterns in Every Area of Your Life There is a reason this is a favorite tool of so many teachers. The elevator is always an excellent tool to discover what patterns are getting in your way or keeping you stuck. Elevators are an awareness tool\,  which will[..]\nhttps://www.hoffmaninstitute.org/events/webclass-mastering-elevators-030123/
URL:https://www.hoffmaninstitute.org/events/webclass-mastering-elevators-030123/
END:VEVENT
END:VCALENDAR