BEGIN:VCALENDAR
VERSION:2.0
PRODID:-//eventon.com NONSGML v1.0//EN
CALSCALE:GREGORIAN
METHOD:PUBLISH
BEGIN:VEVENT
UID:69e74c878e48b
DTSTAMP:20260421T030807
DTSTART:20230309T170000Z
DTEND:20230309T101500Z
TZID:America/Los_Angeles
LOCATION:
SUMMARY:WEBCLASS: Building Resilience
DESCRIPTION:Building Resilience Resilience is the capacity to stay grounded\,  centered\,  and balanced in the face of life. Through practice\,  we can expand our level of tolerance for challenges. We will explore tools and practices to support our capacity for a satisfying\,  joyful life – whether experiencing smooth sailing or rough[..]\nhttps://www.hoffmaninstitute.org/events/webclass-building-resilience-030923/
URL:https://www.hoffmaninstitute.org/events/webclass-building-resilience-030923/
END:VEVENT
END:VCALENDAR