BEGIN:VCALENDAR
VERSION:2.0
PRODID:-//eventon.com NONSGML v1.0//EN
CALSCALE:GREGORIAN
METHOD:PUBLISH
BEGIN:VEVENT
UID:69e4ceada285b
DTSTAMP:20260419T054637
DTSTART:20230323T170000Z
DTEND:20230323T111500Z
TZID:America/Los_Angeles
LOCATION:
SUMMARY:WEBCLASS: Mastering Recycling
DESCRIPTION:Mastering Recycling: Creating Your “New Normal” Recycling is the tool that will move you forward\,  into your “new normal” way of being\,  in all areas of your life. We designed this class to support you in fully integrating recycling into your life. This class will take you through the basics[..]\nhttps://www.hoffmaninstitute.org/events/webclass-mastering-recycling-032323/
URL:https://www.hoffmaninstitute.org/events/webclass-mastering-recycling-032323/
END:VEVENT
END:VCALENDAR