BEGIN:VCALENDAR
VERSION:2.0
PRODID:-//eventon.com NONSGML v1.0//EN
CALSCALE:GREGORIAN
METHOD:PUBLISH
BEGIN:VEVENT
UID:69e8d8cc27353
DTSTAMP:20260422T071852
DTSTART:20230815T170000Z
DTEND:20230815T111500Z
TZID:America/Los_Angeles
LOCATION:
SUMMARY:WEBCLASS: Relationship as a Spiritual Path
DESCRIPTION:Relationship as a Spiritual Path We are blessed when we are in relationship. When we fall in love\,  perhaps we are not blind\,  but we are actually seeing the Spiritual Self of our beloved. And then our patterns get in a dance\,  and dynamics become habitual. Being committed to a[..]\nhttps://www.hoffmaninstitute.org/events/webclass-relationship-as-a-spiritual-path-081523/
URL:https://www.hoffmaninstitute.org/events/webclass-relationship-as-a-spiritual-path-081523/
END:VEVENT
END:VCALENDAR