BEGIN:VCALENDAR
VERSION:2.0
PRODID:-//eventon.com NONSGML v1.0//EN
CALSCALE:GREGORIAN
METHOD:PUBLISH
BEGIN:VEVENT
UID:69eb5963a405d
DTSTAMP:20260424T045203
DTSTART:20230817T170000Z
DTEND:20230817T071500Z
TZID:Pacific/Midway
LOCATION:
SUMMARY:WEBCLASS: Session 1\,  Parenting with Mindfulness (a two-part series)
DESCRIPTION:Parenting with Mindfulness (a two-part series) In this two-part parenting webclass series\,  the first session focuses on awareness and identifying patterns and challenges that sabotage your intentions as a parent\,  and taking power from the undermining voice of your Dark Side. In the second session\,  we explore how you can[..]\nhttps://www.hoffmaninstitute.org/events/webclass-session-1-parenting-with-mindfulness-a-two-part-series-081723/
URL:https://www.hoffmaninstitute.org/events/webclass-session-1-parenting-with-mindfulness-a-two-part-series-081723/
END:VEVENT
END:VCALENDAR