BEGIN:VCALENDAR
VERSION:2.0
PRODID:-//eventon.com NONSGML v1.0//EN
CALSCALE:GREGORIAN
METHOD:PUBLISH
BEGIN:VEVENT
UID:69e8deddb4bc8
DTSTAMP:20260422T074445
DTSTART:20240820T170000Z
DTEND:20240820T111500Z
TZID:America/Los_Angeles
LOCATION:
SUMMARY:WEBCLASS: Gratitude as a Pathway to Joy
DESCRIPTION:Gratitude as a Pathway to Joy Research has shown that people who feel grateful are more optimistic\,  joyful\,  and experience life with deeper satisfaction. In this webclass\,  we’ll explore your relationship with gratitude\,  what gets in the way\,  and we’ll review some practices to help you bring more of this[..]\nhttps://www.hoffmaninstitute.org/events/webclass-gratitude-as-a-pathway-to-joy-082024/
URL:https://www.hoffmaninstitute.org/events/webclass-gratitude-as-a-pathway-to-joy-082024/
END:VEVENT
END:VCALENDAR