BEGIN:VCALENDAR
VERSION:2.0
PRODID:-//eventon.com NONSGML v1.0//EN
CALSCALE:GREGORIAN
METHOD:PUBLISH
BEGIN:VEVENT
UID:69e652e110a80
DTSTAMP:20260420T092257
DTSTART:20241105T170000Z
DTEND:20241105T101500Z
TZID:America/Los_Angeles
LOCATION:
SUMMARY:WEBCLASS: Mastering Elevators
DESCRIPTION:Mastering Elevators: Transforming Patterns in Every Area of Your Life A favorite tool of so many teachers\,  the elevator is an excellent tool to help you discover what patterns are getting in your way or keeping you stuck. As an awareness tool\,  elevators: Lead you to discover patterns that are[..]\nhttps://www.hoffmaninstitute.org/events/webclass-mastering-elevators-110524/
URL:https://www.hoffmaninstitute.org/events/webclass-mastering-elevators-110524/
END:VEVENT
END:VCALENDAR