BEGIN:VCALENDAR
VERSION:2.0
PRODID:-//eventon.com NONSGML v1.0//EN
CALSCALE:GREGORIAN
METHOD:PUBLISH
BEGIN:VEVENT
UID:69eb3f4c1d6ea
DTSTAMP:20260424T030044
DTSTART:20240905T170000Z
DTEND:20240905T111500Z
TZID:America/Los_Angeles
LOCATION:
SUMMARY:WEBCLASS: Tools Basics
DESCRIPTION:Tools Basics This interactive webclass will connect you back to your Hoffman tools. Using the Cycle of Transformation as the foundation\,  you’ll be led through a series of experiences designed to re-engage you and deepen your understanding of the tools. Come prepared with your questions and be ready to transform[..]\nhttps://www.hoffmaninstitute.org/events/webclass-tools-basics-090524/
URL:https://www.hoffmaninstitute.org/events/webclass-tools-basics-090524/
END:VEVENT
END:VCALENDAR