BEGIN:VCALENDAR
VERSION:2.0
PRODID:-//eventon.com NONSGML v1.0//EN
CALSCALE:GREGORIAN
METHOD:PUBLISH
BEGIN:VEVENT
UID:69e8d3c33cf75
DTSTAMP:20260422T065723
DTSTART:20241211T170000Z
DTEND:20241211T101500Z
TZID:America/Los_Angeles
LOCATION:
SUMMARY:WEBCLASS: Practicing Compassion for Self & Others
DESCRIPTION:Practicing Compassion for Self &amp; Others So often in life we move away from ourselves when we are in pain or upset\,  rather than moving toward ourselves with compassion and presence. We are deeply conditioned to patterns of self-abandonment\,  withholding love and care from ourselves – much like it was[..]\nhttps://www.hoffmaninstitute.org/events/webclass-practicing-compassion-for-self-others-121124/
URL:https://www.hoffmaninstitute.org/events/webclass-practicing-compassion-for-self-others-121124/
END:VEVENT
END:VCALENDAR