BEGIN:VCALENDAR
VERSION:2.0
PRODID:-//eventon.com NONSGML v1.0//EN
CALSCALE:GREGORIAN
METHOD:PUBLISH
BEGIN:VEVENT
UID:69eb40497ff46
DTSTAMP:20260424T030457
DTSTART:20250128T170000Z
DTEND:20250128T101500Z
TZID:America/Los_Angeles
LOCATION:
SUMMARY:WEBCLASS: Compassionate Boundaries
DESCRIPTION:Compassionate Boundaries Having compassion for self and others includes having healthy boundaries. In this webclass\,  you’ll explore why this is important\,  and uncover what gets in the way of having healthy boundaries. This insight supports you in living with your heart more fully open to your self and others.\nhttps://www.hoffmaninstitute.org/events/webclass-compassionate-boundaries-012825/
URL:https://www.hoffmaninstitute.org/events/webclass-compassionate-boundaries-012825/
END:VEVENT
END:VCALENDAR