BEGIN:VCALENDAR
VERSION:2.0
PRODID:-//eventon.com NONSGML v1.0//EN
CALSCALE:GREGORIAN
METHOD:PUBLISH
BEGIN:VEVENT
UID:69e8a4e27f533
DTSTAMP:20260422T033722
DTSTART:20250929T170000Z
DTEND:20250929T103000Z
TZID:America/Los_Angeles
LOCATION:
SUMMARY:FREE PRACTICE SESSION: Recycling Workout
DESCRIPTION:FREE PRACTICE SESSION: Recycling Workout Recycling is a key tool to support and expand the work you started at the Process\,  Hoffman Essentials\,  or Hoffman Fundamentals. This tool deepens your connection to your Spiritual Self and helps transform specific patterns and rewire neural pathways. For it to work\,  though\,  you[..]\nhttps://www.hoffmaninstitute.org/events/practice-session-recycling-workout-092925/
URL:https://www.hoffmaninstitute.org/events/practice-session-recycling-workout-092925/
END:VEVENT
END:VCALENDAR