BEGIN:VCALENDAR
VERSION:2.0
PRODID:-//eventon.com NONSGML v1.0//EN
CALSCALE:GREGORIAN
METHOD:PUBLISH
BEGIN:VEVENT
UID:69e9e9dd82cf2
DTSTAMP:20260423T024357
DTSTART:20260512T170000Z
DTEND:20260512T111500Z
TZID:America/Los_Angeles
LOCATION:
SUMMARY:WEBCLASS: Compassionate & Courageous Aging\,  Part 1 (2-part series)
DESCRIPTION:Compassionate &amp; Courageous Aging\,  Part 1* (2-part series) *Part 2 of this series is scheduled for May 26\,  2026. As you grow older\,  your need for compassionate awareness and action to transform patterns and connect to your Spiritual Self continues to shift. In this webclass series\,  you will: Reframe your[..]\nhttps://www.hoffmaninstitute.org/events/webclass-compassionate-courageous-aging-part-1-2-part-series-051226/
URL:https://www.hoffmaninstitute.org/events/webclass-compassionate-courageous-aging-part-1-2-part-series-051226/
END:VEVENT
END:VCALENDAR