BEGIN:VCALENDAR
VERSION:2.0
PRODID:-//eventon.com NONSGML v1.0//EN
CALSCALE:GREGORIAN
METHOD:PUBLISH
BEGIN:VEVENT
UID:69e9e7cbb3b38
DTSTAMP:20260423T023507
DTSTART:20260526T170000Z
DTEND:20260526T111500Z
TZID:America/Los_Angeles
LOCATION:
SUMMARY:WEBCLASS: Compassionate & Courageous Aging\,  Part 2 (2-part series)
DESCRIPTION:Compassionate &amp; Courageous Aging\,  Part 2 (a two-part series) *Part 1 of this series is scheduled for May 12\,  2026. As you grow older\,  your need for compassionate awareness and action to transform patterns and connect to your Spiritual Self continues to shift. In this webclass series\,  you will: Reframe[..]\nhttps://www.hoffmaninstitute.org/events/webclass-compassionate-courageous-aging-part-2-2-part-series-052626/
URL:https://www.hoffmaninstitute.org/events/webclass-compassionate-courageous-aging-part-2-2-part-series-052626/
END:VEVENT
END:VCALENDAR