BEGIN:VCALENDAR
VERSION:2.0
PRODID:-//eventon.com NONSGML v1.0//EN
CALSCALE:GREGORIAN
METHOD:PUBLISH
BEGIN:VEVENT
UID:69ea40e72084c
DTSTAMP:20260423T085519
DTSTART:20190904T170000Z
DTEND:20190904T181500Z
TZID:UTC
LOCATION:
SUMMARY:TELECLASS: Mastering Elevators
DESCRIPTION:Mastering Elevators: Transforming Patterns in Every Area of Your Life There is a reason this is a favorite tool of so many teachers. No matter when you did the Hoffman Process\,  the elevator is always an excellent tool to discover what patterns are getting in your way or keeping you[..]\nhttps://www.hoffmaninstitute.org/events/mastering-elevators-2/
URL:https://www.hoffmaninstitute.org/events/mastering-elevators-2/
END:VEVENT
END:VCALENDAR