BEGIN:VCALENDAR
VERSION:2.0
PRODID:-//eventon.com NONSGML v1.0//EN
CALSCALE:GREGORIAN
METHOD:PUBLISH
BEGIN:VEVENT
UID:69e88b0f28d5f
DTSTAMP:20260422T014711
DTSTART:20190821T170000Z
DTEND:20190821T181500Z
TZID:UTC
LOCATION:
SUMMARY:TELECLASS: Mastering Practices
DESCRIPTION:Mastering Practices This interactive teleclass will connect you back to the practices of the Process. Using the Cycle of Transformation as the foundation\,  you’ll be led through a series of experiences designed to re-engage you to your Process and deepen your understanding of the practices. Come prepared with your questions[..]\nhttps://www.hoffmaninstitute.org/events/mastering-practices-2/
URL:https://www.hoffmaninstitute.org/events/mastering-practices-2/
END:VEVENT
END:VCALENDAR