BEGIN:VCALENDAR
VERSION:2.0
PRODID:-//eventon.com NONSGML v1.0//EN
CALSCALE:GREGORIAN
METHOD:PUBLISH
BEGIN:VEVENT
UID:69e8bcf86cec8
DTSTAMP:20260422T052008
DTSTART:20200318T170000Z
DTEND:20200318T181500Z
TZID:UTC
LOCATION:
SUMMARY:TELECLASS: Tools Basics
DESCRIPTION:Tools Basics This interactive teleclass will connect you back to the tools of the Process. Using the Cycle of Transformation as the foundation\,  you’ll be led through a series of experiences designed to re-engage you to your Process and deepen your understanding of the tools. Come prepared with your questions[..]\nhttps://www.hoffmaninstitute.org/events/tools-basics-031820/
URL:https://www.hoffmaninstitute.org/events/tools-basics-031820/
END:VEVENT
END:VCALENDAR