BEGIN:VCALENDAR
VERSION:2.0
PRODID:-//eventon.com NONSGML v1.0//EN
CALSCALE:GREGORIAN
METHOD:PUBLISH
BEGIN:VEVENT
UID:69e9e7c1ecd6f
DTSTAMP:20260423T023457
DTSTART:20200109T170000Z
DTEND:20200109T181500Z
TZID:UTC
LOCATION:
SUMMARY:WEBINAR: Spirit at Work
DESCRIPTION:Spirit at Work Spirit at work is the ability to experience one’s authenticity\,  joy\,  and a sense of community in the workplace. This webinar will explore and discover strategies for doing just that.\nhttps://www.hoffmaninstitute.org/events/webinar-spirit-at-work-010920/
URL:https://www.hoffmaninstitute.org/events/webinar-spirit-at-work-010920/
END:VEVENT
END:VCALENDAR