BEGIN:VCALENDAR
VERSION:2.0
PRODID:-//eventon.com NONSGML v1.0//EN
CALSCALE:GREGORIAN
METHOD:PUBLISH
BEGIN:VEVENT
UID:69e968df8e57b
DTSTAMP:20260422T173335
DTSTART:20200805T170000Z
DTEND:20200805T181500Z
TZID:UTC
LOCATION:
SUMMARY:TELECLASS: I Think I Failed the Process!
DESCRIPTION:I Think I Failed the Process! How Do I Get Back on My Right Road? After returning to your everyday life and relationships post-Process\,  do you find yourself walking the old familiar Left Road of your patterns and feeling that nothing has changed? Do you fear that you failed your Process?[..]\nhttps://www.hoffmaninstitute.org/events/teleclass-i-think-i-failed-the-process-080520/
URL:https://www.hoffmaninstitute.org/events/teleclass-i-think-i-failed-the-process-080520/
END:VEVENT
END:VCALENDAR