BEGIN:VCALENDAR
VERSION:2.0
PRODID:-//eventon.com NONSGML v1.0//EN
CALSCALE:GREGORIAN
METHOD:PUBLISH
BEGIN:VEVENT
UID:69ea2263f00a0
DTSTAMP:20260423T064507
DTSTART:20200701T170000Z
DTEND:20200701T181500Z
TZID:UTC
LOCATION:
SUMMARY:TELECLASS: Disempower Your Dark Side
DESCRIPTION:Disempower Your Dark Side Tools and practices to build spirit and keep the dark side at bay in your life!\nhttps://www.hoffmaninstitute.org/events/webclass-disempower-your-dark-side-070120/
URL:https://www.hoffmaninstitute.org/events/webclass-disempower-your-dark-side-070120/
END:VEVENT
END:VCALENDAR