BEGIN:VCALENDAR
VERSION:2.0
PRODID:-//eventon.com NONSGML v1.0//EN
CALSCALE:GREGORIAN
METHOD:PUBLISH
BEGIN:VEVENT
UID:69e75e4bbf1d2
DTSTAMP:20260421T042355
DTSTART:20200819T170000Z
DTEND:20200819T181500Z
TZID:UTC
LOCATION:
SUMMARY:WEBCLASS: Compassionate & Courageous Aging\,  Part 1 (2-part series)
DESCRIPTION:Compassionate & Courageous Aging\,  Part 1 (2-part series) Living from your Spiritual Self is a courageous practice at any age. As we grow older our exercise and dietary needs shift in order to stay vibrant and resilient\,  and so does our need for compassionate awareness and action toward transforming patterns[..]\nhttps://www.hoffmaninstitute.org/events/webclass-compassionate-courageous-aging-part-1-2-part-series-081920/
URL:https://www.hoffmaninstitute.org/events/webclass-compassionate-courageous-aging-part-1-2-part-series-081920/
END:VEVENT
END:VCALENDAR