BEGIN:VCALENDAR
VERSION:2.0
PRODID:-//eventon.com NONSGML v1.0//EN
CALSCALE:GREGORIAN
METHOD:PUBLISH
BEGIN:VEVENT
UID:69ecc1604fd26
DTSTAMP:20260425T062800
DTSTART:20201202T170000Z
DTEND:20201202T181500Z
TZID:UTC
LOCATION:
SUMMARY:TELECLASS: Living Your Vision
DESCRIPTION:Living Your Vision Invoke and hear your Spirit’s guidance so you can continue to clarify your vision and truly take action on your Spirit’s path. On this call\,  we will also go over several key steps to bringing your deepest intentions into being.\nhttps://www.hoffmaninstitute.org/events/teleclass-living-your-vision-120220/
URL:https://www.hoffmaninstitute.org/events/teleclass-living-your-vision-120220/
END:VEVENT
END:VCALENDAR