BEGIN:VCALENDAR
VERSION:2.0
PRODID:-//eventon.com NONSGML v1.0//EN
CALSCALE:GREGORIAN
METHOD:PUBLISH
BEGIN:VEVENT
UID:69e754c1f0b6d
DTSTAMP:20260421T034313
DTSTART:20201222T170000Z
DTEND:20201222T181500Z
TZID:UTC
LOCATION:
SUMMARY:FREE TELECLASS! Gratitude and Reflection
DESCRIPTION:Gratitude & Reflection It is safe to say that 2020 has not been the easiest year. In the midst of everything that has happened\,  it can be easy to lose sight of what we are grateful for. This teleclass is an opportunity to reflect back on this past year and[..]\nhttps://www.hoffmaninstitute.org/events/free-teleclass-gratitude-and-reflection-122220/
URL:https://www.hoffmaninstitute.org/events/free-teleclass-gratitude-and-reflection-122220/
END:VEVENT
END:VCALENDAR