BEGIN:VCALENDAR
VERSION:2.0
PRODID:-//eventon.com NONSGML v1.0//EN
CALSCALE:GREGORIAN
METHOD:PUBLISH
BEGIN:VEVENT
UID:69e74b009a0af
DTSTAMP:20260421T030136
DTSTART:20210112T170000Z
DTEND:20210112T181500Z
TZID:UTC
LOCATION:
SUMMARY:WEBCLASS: Living Your Vision
DESCRIPTION:Living Your Vision Invoke and hear your Spirit’s guidance so you can continue to clarify your vision and truly take action on your Spirit’s path. In this class\,  we will also go over several key steps to bringing your deepest intentions into being.\nhttps://www.hoffmaninstitute.org/events/webclass-living-your-vision-011221/
URL:https://www.hoffmaninstitute.org/events/webclass-living-your-vision-011221/
END:VEVENT
END:VCALENDAR