BEGIN:VCALENDAR
VERSION:2.0
PRODID:-//eventon.com NONSGML v1.0//EN
CALSCALE:GREGORIAN
METHOD:PUBLISH
BEGIN:VEVENT
UID:69ec980eafcab
DTSTAMP:20260425T033142
DTSTART:20210211T170000Z
DTEND:20210211T181500Z
TZID:UTC
LOCATION:
SUMMARY:WEBCLASS: Relationship as a Spiritual Path
DESCRIPTION:Relationship as a Spiritual Path We are blessed when we are in relationship. When we fall in love\,  perhaps we are not blind\,  but we are actually seeing the Spiritual Self of our beloved. And then our patterns get in a dance and dynamics become habitual. Being committed to a[..]\nhttps://www.hoffmaninstitute.org/events/webclass-relationship-as-a-spiritual-path-021121/
URL:https://www.hoffmaninstitute.org/events/webclass-relationship-as-a-spiritual-path-021121/
END:VEVENT
END:VCALENDAR