BEGIN:VCALENDAR
VERSION:2.0
PRODID:-//eventon.com NONSGML v1.0//EN
CALSCALE:GREGORIAN
METHOD:PUBLISH
BEGIN:VEVENT
UID:69e89d0fe2f44
DTSTAMP:20260422T030359
DTSTART:20210615T170000Z
DTEND:20210615T181500Z
TZID:UTC
LOCATION:
SUMMARY:WEBCLASS: Disempower Your Dark Side
DESCRIPTION:Disempower Your Dark Side Tools and practices to build spirit and keep the dark side at bay in your life!\nhttps://www.hoffmaninstitute.org/events/webclass-disempower-your-dark-side-061521/
URL:https://www.hoffmaninstitute.org/events/webclass-disempower-your-dark-side-061521/
END:VEVENT
END:VCALENDAR