BEGIN:VCALENDAR
VERSION:2.0
PRODID:-//eventon.com NONSGML v1.0//EN
CALSCALE:GREGORIAN
METHOD:PUBLISH
BEGIN:VEVENT
UID:69e75fabe4286
DTSTAMP:20260421T042947
DTSTART:20210407T170000Z
DTEND:20210407T181500Z
TZID:UTC
LOCATION:
SUMMARY:WEBCLASS: Preparing for Difficult Conversations
DESCRIPTION:Preparing for Difficult Conversations Difficult conversations are a common occurrence in intimate relationships and many other kinds of relationships\,  including those at work. So\,  whether you’re addressing an employee’s lackluster performance\,  sharing a missed deadline with a client\,  confronting a close friend\,  or telling your partner that you need some[..]\nhttps://www.hoffmaninstitute.org/events/webclass-preparing-for-difficult-conversations-at-work-040721/
URL:https://www.hoffmaninstitute.org/events/webclass-preparing-for-difficult-conversations-at-work-040721/
END:VEVENT
END:VCALENDAR