BEGIN:VCALENDAR
VERSION:2.0
PRODID:-//eventon.com NONSGML v1.0//EN
CALSCALE:GREGORIAN
METHOD:PUBLISH
BEGIN:VEVENT
UID:69e9a2d2c1280
DTSTAMP:20260422T214050
DTSTART:20210714T170000Z
DTEND:20210714T181500Z
TZID:UTC
LOCATION:
SUMMARY:WEBCLASS: Mastering Recycling
DESCRIPTION:Mastering Recycling: Creating Your “New Normal” Recycling is the tool that will move you forward\,  into your “new normal” way of being\,  in all areas of your life. We designed this class to support you in fully integrating recycling into your life. This class will take you through the basics[..]\nhttps://www.hoffmaninstitute.org/events/webclass-mastering-recycling-071421/
URL:https://www.hoffmaninstitute.org/events/webclass-mastering-recycling-071421/
END:VEVENT
END:VCALENDAR