BEGIN:VCALENDAR
VERSION:2.0
PRODID:-//eventon.com NONSGML v1.0//EN
CALSCALE:GREGORIAN
METHOD:PUBLISH
BEGIN:VEVENT
UID:69e75ae272d96
DTSTAMP:20260421T040922
DTSTART:20220802T170000Z
DTEND:20220802T071500Z
TZID:Pacific/Midway
LOCATION:
SUMMARY:WEBCLASS: Mastering Elevators
DESCRIPTION:Mastering Elevators: Transforming Patterns in Every Area of Your Life There is a reason this is a favorite tool of so many teachers. The elevator is always an excellent tool to discover what patterns are getting in your way or keeping you stuck. Elevators are an awareness tool that will[..]\nhttps://www.hoffmaninstitute.org/events/8914/
URL:https://www.hoffmaninstitute.org/events/8914/
END:VEVENT
END:VCALENDAR